BEGIN:VCALENDAR
VERSION:2.0
PRODID:-//Reach Community Church - ECPv6.15.11//NONSGML v1.0//EN
CALSCALE:GREGORIAN
METHOD:PUBLISH
X-WR-CALNAME:Reach Community Church
X-ORIGINAL-URL:https://reachcommunitychurch.com
X-WR-CALDESC:Events for Reach Community Church
REFRESH-INTERVAL;VALUE=DURATION:PT1H
X-Robots-Tag:noindex
X-PUBLISHED-TTL:PT1H
BEGIN:VTIMEZONE
TZID:America/New_York
BEGIN:DAYLIGHT
TZOFFSETFROM:-0500
TZOFFSETTO:-0400
TZNAME:EDT
DTSTART:20210314T070000
END:DAYLIGHT
BEGIN:STANDARD
TZOFFSETFROM:-0400
TZOFFSETTO:-0500
TZNAME:EST
DTSTART:20211107T060000
END:STANDARD
BEGIN:DAYLIGHT
TZOFFSETFROM:-0500
TZOFFSETTO:-0400
TZNAME:EDT
DTSTART:20220313T070000
END:DAYLIGHT
BEGIN:STANDARD
TZOFFSETFROM:-0400
TZOFFSETTO:-0500
TZNAME:EST
DTSTART:20221106T060000
END:STANDARD
BEGIN:DAYLIGHT
TZOFFSETFROM:-0500
TZOFFSETTO:-0400
TZNAME:EDT
DTSTART:20230312T070000
END:DAYLIGHT
BEGIN:STANDARD
TZOFFSETFROM:-0400
TZOFFSETTO:-0500
TZNAME:EST
DTSTART:20231105T060000
END:STANDARD
BEGIN:DAYLIGHT
TZOFFSETFROM:-0500
TZOFFSETTO:-0400
TZNAME:EDT
DTSTART:20240310T070000
END:DAYLIGHT
BEGIN:STANDARD
TZOFFSETFROM:-0400
TZOFFSETTO:-0500
TZNAME:EST
DTSTART:20241103T060000
END:STANDARD
BEGIN:DAYLIGHT
TZOFFSETFROM:-0500
TZOFFSETTO:-0400
TZNAME:EDT
DTSTART:20250309T070000
END:DAYLIGHT
BEGIN:STANDARD
TZOFFSETFROM:-0400
TZOFFSETTO:-0500
TZNAME:EST
DTSTART:20251102T060000
END:STANDARD
END:VTIMEZONE
BEGIN:VTIMEZONE
TZID:UTC
BEGIN:STANDARD
TZOFFSETFROM:+0000
TZOFFSETTO:+0000
TZNAME:UTC
DTSTART:20180101T000000
END:STANDARD
END:VTIMEZONE
BEGIN:VEVENT
DTSTART;VALUE=DATE:20240331
DTEND;VALUE=DATE:20240401
DTSTAMP:20260424T111404
CREATED:20240327T212842Z
LAST-MODIFIED:20251124T192332Z
UID:10676-1711843200-1711929599@reachcommunitychurch.com
SUMMARY:Resurrection Sunday - Easter Services
DESCRIPTION:Join us this Sunday at 9 & 10.45am as we celebrate our risen King!\n\n\n“They found the stone rolled away from the tomb\, but when they entered\, they did not find the body of the Lord Jesus.” —Luke 24:2-3\n\n\nResurrection Sunday Services\n 9am and 10.45am\n121 Town Hall Drive | Leland
URL:https://reachcommunitychurch.com/event/resurrection-sunday-easter-services-2/
LOCATION:The Brunswick Senior Center at Leland\, 121 Town Hall Drive\, Leland\, NC\, 28451
ATTACH;FMTTYPE=image/png:https://reachcommunitychurch.com/wp-content/uploads/2024/03/3F8E7C8C-7C5D-4190-9DB8-9E7A9202A1A0.png
END:VEVENT
BEGIN:VEVENT
DTSTART;VALUE=DATE:20240316
DTEND;VALUE=DATE:20240317
DTSTAMP:20260424T111404
CREATED:20240211T024726Z
LAST-MODIFIED:20240211T025403Z
UID:10619-1710547200-1710633599@reachcommunitychurch.com
SUMMARY:Iron Sharpens Iron Men's Conference - March 16th
DESCRIPTION:The Iron Sharpens Iron National One-Day Equipping Conference includes two World Class\nKeynote Speakers specifically for men. There are 16 seminars from the Best of the Best in\nMen’s Ministry. Masculine style worship and Exhibitors with resources just for men. This\nconference is for men of all ages: Emerging Men (13-19)\, Pioneering Men (20-29)\, Full Throttle\nMen (30-55)\, Seasoned Men (55+). This one day equipping conference held each year provides\nvital resources designed to help the church reach and build their men. Training and equipping\nlocal churches is the heartbeat of Cape Fear Men who host the Iron Sharpens Iron National\nOne Day Equipping Conference \nIf you are interested in attending\, we have a group discount offered through Reach. Please fill out the form below to get more information on cost or details. \nIron Sharpens Iron Men's Conference - March 16th 2024We're glad you're interested in joining this excellent mens event! Please complete this short form and your inquiry will be delivered to our e-mail address. We will be in touch from there!Please enable JavaScript in your browser to complete this form.Name *FirstLastPhone Number *Email *EmailConfirm EmailQuestions or Comments?MessageSubmit
URL:https://reachcommunitychurch.com/event/iron-sharpens-iron-mens-conference-march-16th/
LOCATION:Northside Church\, 2501 N College Rd\, Wilmington\, 28405\, United States
END:VEVENT
BEGIN:VEVENT
DTSTART;TZID=America/New_York:20231112T180000
DTEND;TZID=America/New_York:20231112T200000
DTSTAMP:20260424T111404
CREATED:20231030T162704Z
LAST-MODIFIED:20231030T162704Z
UID:10543-1699812000-1699819200@reachcommunitychurch.com
SUMMARY:Operation Christmas Child Shoebox Packing Party
DESCRIPTION:Join us on Sunday\, November 12th at 6pm for our Annual Operation Christmas Child Packing Party!! SIGN UP NOW AND DONATE \nShoeboxes and packing supplies will be provided\, including paper and markers for personal notes to be added at the end. We are asking families to bring small fillers for the boxes. Please sign up below for what you will be contributing. If you are unable to contribute\, we would still love for you to come pack boxes with us!! *If you are bringing something not listed below\, please do not bring any candy\, food\, war-like items\, or liquids such as body wash\, bubbles\, or toothpaste. \nWe are also asking for monetary donations to help cover the shipping cost of $9.00 per box. Our goal is to send 50 boxes from Reach! \nWe are excited to enjoy dinner together prior to packing boxes! Please check out the sign up towards the end of this page for food items to bring to share! Hope to see your family there!!
URL:https://reachcommunitychurch.com/event/operation-christmas-child-shoebox-packing-party/
LOCATION:The Brunswick Senior Center at Leland\, 121 Town Hall Drive\, Leland\, NC\, 28451
END:VEVENT
BEGIN:VEVENT
DTSTART;TZID=America/New_York:20230409T100000
DTEND;TZID=America/New_York:20230409T233000
DTSTAMP:20260424T111404
CREATED:20230405T205833Z
LAST-MODIFIED:20230405T205833Z
UID:10271-1681034400-1681083000@reachcommunitychurch.com
SUMMARY:
DESCRIPTION:Come join us in celebrating our risen King! Our service will be full attendance so please come early and please invite your “peeps“ because there will be room in the house of the Lord for all!  \n📖 1 Peter 1:3: “Praise be to the God and Father of our Lord Jesus Christ! In his great mercy he has given us new birth into a living hope through the resurrection of Jesus Christ from the dead.” \n⏰ Sunday at 10am \n⛪️ 121 Town Hall Drive | Leland \n📺 https://youtube.com/c/ReachCommunityChurchLeland
URL:https://reachcommunitychurch.com/event/10271/
LOCATION:NC
ATTACH;FMTTYPE=image/jpeg:https://reachcommunitychurch.com/wp-content/uploads/2023/04/3F7C95A5-2535-4734-80E5-67188D2E9F5A.jpeg
END:VEVENT
BEGIN:VEVENT
DTSTART;TZID=America/New_York:20230226T183000
DTEND;TZID=America/New_York:20230226T200000
DTSTAMP:20260424T111404
CREATED:20230224T070339Z
LAST-MODIFIED:20230224T070339Z
UID:10237-1677436200-1677441600@reachcommunitychurch.com
SUMMARY:Night of Prayer & Worship
DESCRIPTION:Our Night of Prayer and Worship is February 26th at 6.30pm! Come join in this special service and lift your voice with us! \n📖 Colossians 3:15-17: Let the peace of Christ rule in your hearts\, since as members of one body you were called to peace. And be thankful. 16 Let the message of Christ dwell among you richly as you teach and admonish one another with all wisdom through psalms\, hymns\, and songs from the Spirit\, singing to God with gratitude in your hearts. 17 And whatever you do\, whether in word or deed\, do it all in the name of the Lord Jesus\, giving thanks to God the Father through him. \nChildcare is provided for children 5 and under.
URL:https://reachcommunitychurch.com/event/night-of-prayer-worship/
LOCATION:NC
CATEGORIES:Special Events
END:VEVENT
BEGIN:VEVENT
DTSTART;TZID=America/New_York:20230205T120000
DTEND;TZID=America/New_York:20230205T130000
DTSTAMP:20260424T111404
CREATED:20230119T115330Z
LAST-MODIFIED:20230119T115330Z
UID:10209-1675598400-1675602000@reachcommunitychurch.com
SUMMARY:Pizza with the Pastor
DESCRIPTION:If you are new to Reach we would love for you to join us on Feb. 5th for an informal luncheon with Pastor Heath as he answers any questions you might have about who we are and what we believe. Please sign up at our guest services table or email us and let us know if you will need childcare.
URL:https://reachcommunitychurch.com/event/pizza-with-the-pastor-2/
LOCATION:The Brunswick Senior Center at Leland\, 121 Town Hall Drive\, Leland\, NC\, 28451
CATEGORIES:Pizza with the Pastor
END:VEVENT
BEGIN:VEVENT
DTSTART;TZID=America/New_York:20230129T100000
DTEND;TZID=America/New_York:20230129T233000
DTSTAMP:20260424T111404
CREATED:20230108T141413Z
LAST-MODIFIED:20230108T141413Z
UID:10087-1674986400-1675035000@reachcommunitychurch.com
SUMMARY:Baptism Sunday
DESCRIPTION:We are having Baptism Sunday on January 29th. If you are desiring to be baptized please sign up at the guest services table in the hallway or email us\, and someone will get in touch with you to discuss next steps.
URL:https://reachcommunitychurch.com/event/baptism-sunday/
LOCATION:NC
END:VEVENT
BEGIN:VEVENT
DTSTART;VALUE=DATE:20230101
DTEND;VALUE=DATE:20230102
DTSTAMP:20260424T111404
CREATED:20221215T155049Z
LAST-MODIFIED:20221215T155049Z
UID:10072-1672531200-1672617599@reachcommunitychurch.com
SUMMARY:No Service - January 1st
DESCRIPTION:No Service – Jan. 1st \nReach Community Church appreciates each of our volunteers and ministry leaders and the heart they put into our church. As a celebration of their commitment\, we give them an opportunity to travel and spend time with their families.
URL:https://reachcommunitychurch.com/event/new-years-day/
LOCATION:NC
END:VEVENT
BEGIN:VEVENT
DTSTART;TZID=America/New_York:20221231T180000
DTEND;TZID=America/New_York:20221231T200000
DTSTAMP:20260424T111404
CREATED:20221215T154320Z
LAST-MODIFIED:20221215T154320Z
UID:10068-1672509600-1672516800@reachcommunitychurch.com
SUMMARY:New Years Eve Prayer & Communion
DESCRIPTION:New Years Eve Prayer & Communion  \nReach will be open from 6-8pm on New Year’s Eve to individuals or families who would like to come by and take communion\, and/ or spend time in prayer. You are welcome to drop in or stay the entire time . There will be prayer partners available if anyone would like someone to pray with them!
URL:https://reachcommunitychurch.com/event/new-years-eve/
LOCATION:The Brunswick Senior Center at Leland\, 121 Town Hall Drive\, Leland\, NC\, 28451
CATEGORIES:Special Events
END:VEVENT
BEGIN:VEVENT
DTSTART;VALUE=DATE:20221225
DTEND;VALUE=DATE:20221226
DTSTAMP:20260424T111404
CREATED:20221215T154846Z
LAST-MODIFIED:20221215T155149Z
UID:10070-1671926400-1672012799@reachcommunitychurch.com
SUMMARY:No Service - Christmas Day
DESCRIPTION:No Service – Dec. 25th and Jan. 1st \nReach Community Church appreciates each of our volunteers and ministry leaders and the heart they put into our church. As a celebration of their commitment\, we give them an opportunity to travel and spend time with their families.
URL:https://reachcommunitychurch.com/event/christmas-day/
LOCATION:NC
CATEGORIES:No Service
END:VEVENT
BEGIN:VEVENT
DTSTART;TZID=America/New_York:20221224T180000
DTEND;TZID=America/New_York:20221224T190000
DTSTAMP:20260424T111404
CREATED:20221215T153537Z
LAST-MODIFIED:20221215T155247Z
UID:10063-1671904800-1671908400@reachcommunitychurch.com
SUMMARY:Christmas Eve Service
DESCRIPTION:Join us for our Christmas Eve Candlelight Service at 6pm. Fellowship afterward! We will have hot chocolate and hot cider with allergy free sweets.
URL:https://reachcommunitychurch.com/event/christmas-eve/
LOCATION:The Brunswick Senior Center at Leland\, 121 Town Hall Drive\, Leland\, NC\, 28451
END:VEVENT
BEGIN:VEVENT
DTSTART;TZID=America/New_York:20221221T183000
DTEND;TZID=America/New_York:20221221T200000
DTSTAMP:20260424T111404
CREATED:20221215T153918Z
LAST-MODIFIED:20221215T153918Z
UID:10066-1671647400-1671652800@reachcommunitychurch.com
SUMMARY:Youth Christmas Party
DESCRIPTION:Youth Christmas party is coming Wed. the 21st at the Senior Center from 6:30-8. There will be food\, games and prizes. Invite your friends out to join us for a great time!
URL:https://reachcommunitychurch.com/event/youth-christmas-party/
LOCATION:The Brunswick Senior Center at Leland\, 121 Town Hall Drive\, Leland\, NC\, 28451
END:VEVENT
BEGIN:VEVENT
DTSTART;TZID=UTC:20200207T190000
DTEND;TZID=UTC:20200207T210000
DTSTAMP:20260424T111404
CREATED:20200108T055202Z
LAST-MODIFIED:20200108T064239Z
UID:9256-1581102000-1581109200@reachcommunitychurch.com
SUMMARY:Women at Reach - W.A.R. Gathering
DESCRIPTION:All women 18 and over are invited to Women At Reach. Join us for worship\, a word\, and fellowship.
URL:https://reachcommunitychurch.com/event/women-at-reach-w-a-r-gathering/
LOCATION:Senior Center\, 121 Town Hall Drive\, Leland\, NC\, 28451
ORGANIZER;CN="Church":MAILTO:Church@ch.com
END:VEVENT
BEGIN:VEVENT
DTSTART;TZID=UTC:20200126T180000
DTEND;TZID=UTC:20200126T193000
DTSTAMP:20260424T111404
CREATED:20200108T054409Z
LAST-MODIFIED:20200108T054409Z
UID:9253-1580061600-1580067000@reachcommunitychurch.com
SUMMARY:Night of Worship
DESCRIPTION:Join us for a night of worship and prayer as our 21 days of prayer and fasting comes to an end.
URL:https://reachcommunitychurch.com/event/night-of-worship/
LOCATION:Senior Center\, 121 Town Hall Drive\, Leland\, NC\, 28451
ORGANIZER;CN="Church":MAILTO:Church@ch.com
END:VEVENT
BEGIN:VEVENT
DTSTART;TZID=UTC:20200120T190000
DTEND;TZID=UTC:20200120T200000
DTSTAMP:20260424T111404
CREATED:20200104T055217Z
LAST-MODIFIED:20200108T064340Z
UID:9246-1579546800-1579550400@reachcommunitychurch.com
SUMMARY:Reach Prayer Night
DESCRIPTION:Throughout our 21 days of prayer and fasting we will hold a prayer meeting each Monday from 7:00 pm – 8:00 pm. The location will be the Senior Center (121 Town Hall Dr. in Leland). Join us for a time of prayer together.
URL:https://reachcommunitychurch.com/event/reach-prayer-night-3/
LOCATION:Senior Center\, 121 Town Hall Drive\, Leland\, NC\, 28451
ORGANIZER;CN="Church":MAILTO:Church@ch.com
END:VEVENT
BEGIN:VEVENT
DTSTART;TZID=UTC:20200119T180000
DTEND;TZID=UTC:20200119T200000
DTSTAMP:20260424T111404
CREATED:20200108T053905Z
LAST-MODIFIED:20200108T064924Z
UID:9250-1579456800-1579464000@reachcommunitychurch.com
SUMMARY:Reach Youth
DESCRIPTION:Serving Sunday! We will meet at the church grounds (Brunswick Center) from 6pm to 8pm. For a second month in a row we will have the students “tear-down” the church and set back up the Brunswick center. ReachCC is a “mobile church” and we have to setup and tear down every Sunday. Having the students doing the tear-down part will greatly help! It will help the volunteers who usually have to do it right after service\, it will help the students themselves see all the work that goes into preparing for a Sunday service\, serving others is simply AWESOME\, and it reflects our savior in heaven!! ALSO!!! We will have pancakes and drinks to reward our students!! See you there! \n-Pastor Allan
URL:https://reachcommunitychurch.com/event/reach-youth-4/
LOCATION:Senior Center\, 121 Town Hall Drive\, Leland\, NC\, 28451
ORGANIZER;CN="Church":MAILTO:Church@ch.com
END:VEVENT
BEGIN:VEVENT
DTSTART;TZID=UTC:20200113T190000
DTEND;TZID=UTC:20200113T200000
DTSTAMP:20260424T111404
CREATED:20200104T055007Z
LAST-MODIFIED:20200108T064546Z
UID:9244-1578942000-1578945600@reachcommunitychurch.com
SUMMARY:Reach Prayer Night
DESCRIPTION:Throughout our 21 days of prayer and fasting we will hold a prayer meeting each Monday from 7:00 pm – 8:00 pm. The location will be the Senior Center (121 Town Hall Dr. in Leland). Join us for a time of prayer together.
URL:https://reachcommunitychurch.com/event/reach-prayer-night-2/
LOCATION:Senior Center\, 121 Town Hall Drive\, Leland\, NC\, 28451
ORGANIZER;CN="Church":MAILTO:Church@ch.com
END:VEVENT
BEGIN:VEVENT
DTSTART;TZID=UTC:20200112T180000
DTEND;TZID=UTC:20200112T200000
DTSTAMP:20260424T111404
CREATED:20200108T053724Z
LAST-MODIFIED:20200108T053724Z
UID:9248-1578852000-1578859200@reachcommunitychurch.com
SUMMARY:Reach Youth
DESCRIPTION:
URL:https://reachcommunitychurch.com/event/reach-youth-3/
LOCATION:Senior Center\, 121 Town Hall Drive\, Leland\, NC\, 28451
ORGANIZER;CN="Church":MAILTO:Church@ch.com
END:VEVENT
BEGIN:VEVENT
DTSTART;TZID=UTC:20200106T190000
DTEND;TZID=UTC:20200106T200000
DTSTAMP:20260424T111404
CREATED:20200104T054457Z
LAST-MODIFIED:20200108T065025Z
UID:9241-1578337200-1578340800@reachcommunitychurch.com
SUMMARY:Reach Prayer Night
DESCRIPTION:The first Monday of January\, Reach Church will have it’s 1st Monday of the month prayer meeting from 7:00 pm – 8:00 pm. The location will be the Senior Center (121 Town Hall Dr. in Leland). It will be a special prayer event since it will be part of the kick-off for the 21 days of Prayer and Fasting. We will also be taking communion. Come\, let us gather together to offer and receive.
URL:https://reachcommunitychurch.com/event/reach-prayer-night/
LOCATION:Senior Center\, 121 Town Hall Drive\, Leland\, NC\, 28451
ORGANIZER;CN="Church":MAILTO:Church@ch.com
END:VEVENT
BEGIN:VEVENT
DTSTART;TZID=UTC:20191224T180000
DTEND;TZID=UTC:20191224T190000
DTSTAMP:20260424T111404
CREATED:20191201T051558Z
LAST-MODIFIED:20191201T051558Z
UID:9190-1577210400-1577214000@reachcommunitychurch.com
SUMMARY:Christmas Eve Service
DESCRIPTION:We will be having a Christmas Eve Service from 6-7pm on the 24th. Reach kids will join the Worship team as we sing in celebration of the birth of our Savior!\nWe will have hot chocolate\, cider and cookies.\nLocation: Reach Community Church\nTime: 6-7pm
URL:https://reachcommunitychurch.com/event/christmas-eve-service/
LOCATION:Senior Center\, 121 Town Hall Drive\, Leland\, NC\, 28451
END:VEVENT
BEGIN:VEVENT
DTSTART;TZID=UTC:20191215T183000
DTEND;TZID=UTC:20191215T200000
DTSTAMP:20260424T111404
CREATED:20191201T050920Z
LAST-MODIFIED:20191201T050920Z
UID:9186-1576434600-1576440000@reachcommunitychurch.com
SUMMARY:Man2Man
DESCRIPTION:The Reach Community Church men’s group will be having its December meeting on the 15th. This months topic is “Being a Godly Father.” Russell Daggett will be leading the discussion as we explore what it means and looks like to be a Godly Father. \nLocation: Reach Community Church\nTime: 6:30-8pm
URL:https://reachcommunitychurch.com/event/man2man/
LOCATION:Senior Center\, 121 Town Hall Drive\, Leland\, NC\, 28451
END:VEVENT
BEGIN:VEVENT
DTSTART;TZID=UTC:20191215T180000
DTEND;TZID=UTC:20191215T193000
DTSTAMP:20260424T111404
CREATED:20191201T050617Z
LAST-MODIFIED:20191201T050617Z
UID:9184-1576432800-1576438200@reachcommunitychurch.com
SUMMARY:Reach Youth
DESCRIPTION:
URL:https://reachcommunitychurch.com/event/reach-youth-2/
LOCATION:Senior Center\, 121 Town Hall Drive\, Leland\, NC\, 28451
END:VEVENT
BEGIN:VEVENT
DTSTART;TZID=UTC:20191208T170000
DTEND;TZID=UTC:20191208T193000
DTSTAMP:20260424T111404
CREATED:20191201T050414Z
LAST-MODIFIED:20191201T050414Z
UID:9182-1575824400-1575833400@reachcommunitychurch.com
SUMMARY:Reach Youth
DESCRIPTION:Reach Youth will be going to the Bethlehem Interactive Outdoor Christmas Drama at the Beach Assembly of God.
URL:https://reachcommunitychurch.com/event/reach-youth/
LOCATION:Senior Center\, 121 Town Hall Drive\, Leland\, NC\, 28451
END:VEVENT
BEGIN:VEVENT
DTSTART;TZID=UTC:20191202T190000
DTEND;TZID=UTC:20191202T200000
DTSTAMP:20260424T111404
CREATED:20191201T051211Z
LAST-MODIFIED:20191201T051211Z
UID:9188-1575313200-1575316800@reachcommunitychurch.com
SUMMARY:Community Prayer Night
DESCRIPTION:At Reach we believe in the power of prayer. The first Monday of each month we gather to pray for the needs of our church\, community and for the needs of all of God’s people. Don & Kathy Bernard will open their home to host prayer night.\nLocation:\n1214 Atrium Way Leland\, NC (Waterford Development)\nTime: 7-8pm
URL:https://reachcommunitychurch.com/event/community-prayer-night/
LOCATION:NC
END:VEVENT
BEGIN:VEVENT
DTSTART;TZID=UTC:20191201T180000
DTEND;TZID=UTC:20191201T193000
DTSTAMP:20260424T111404
CREATED:20191201T045404Z
LAST-MODIFIED:20191201T045953Z
UID:9178-1575223200-1575228600@reachcommunitychurch.com
SUMMARY:Reach Youth
DESCRIPTION:
URL:https://reachcommunitychurch.com/event/december-youth-group-dates/
LOCATION:Senior Center\, 121 Town Hall Drive\, Leland\, NC\, 28451
END:VEVENT
BEGIN:VEVENT
DTSTART;VALUE=DATE:20191108
DTEND;VALUE=DATE:20191110
DTSTAMP:20260424T111404
CREATED:20191023T220832Z
LAST-MODIFIED:20191023T220832Z
UID:9152-1573171200-1573343999@reachcommunitychurch.com
SUMMARY:November Ladies Camping
DESCRIPTION:RCC LADIES NIGHT UNDER THE STARS\nCamping weather is here!!!\nSo join us for a night under the stars as we pitch our tents\, get a nice fire going\, eat and fellowship out in God’s glory.  Yes\, that means the outdoors and no\, this is not glamping.  Real campers only.  Bugs\, crisp fall air\, night creatures and all the things God has created that make the outdoor experience rich and powerful will be included at no extra charge.\nHere’s the details:\nWhen:  Friday\, 8 November through Saturday\, 9 November\nTime:  Anytime you can get there.  You are welcome to come as early as 3pm.\nWhere:  McDowell Property.  No actual address but located directly across from Cape Fearless Extreme.\nTheir address is 1571 Neils Eddy Road\, Reiglewood\, NC\nWhat:  A chance to bond with other ladies and maybe conquer a fear or two. We will potluck dinner and cookout for breakfast.\nThe campsite has places for tents and enos.  If you need either of those\, please let Leslie know.  A list of supplies needed will be put out in the November NoMoFoMO email.\nThere is a five star outhouse on the property and twinkly lights around the campsite.\n*For questions and to reserve your free spot\, contact Leslie @\nmcpilot03@gmail.com or text at 910.986\,0725
URL:https://reachcommunitychurch.com/event/november-ladies-camping/
LOCATION:McDowell Property
END:VEVENT
BEGIN:VEVENT
DTSTART;TZID=UTC:20191103T180000
DTEND;TZID=UTC:20191103T193000
DTSTAMP:20260424T111404
CREATED:20191020T042657Z
LAST-MODIFIED:20191020T142446Z
UID:9145-1572804000-1572809400@reachcommunitychurch.com
SUMMARY:Volunteer Appreciation Dinner
DESCRIPTION:We will be honoring all of our awesome volunteers on Sunday November 3rd from 6-7:30pm at the Senior Center. If you are a volunteer and haven’t received an evite please let us know ASAP!!! Going to be fun night.
URL:https://reachcommunitychurch.com/event/volunteer-appreciation-dinner/
LOCATION:Senior Center\, 121 Town Hall Drive\, Leland\, NC\, 28451
CATEGORIES:Volunteer Appreciation Dinner
END:VEVENT
BEGIN:VEVENT
DTSTART;TZID=UTC:20191027T120000
DTEND;TZID=UTC:20191027T133000
DTSTAMP:20260424T111404
CREATED:20191020T042055Z
LAST-MODIFIED:20191020T142552Z
UID:9143-1572177600-1572183000@reachcommunitychurch.com
SUMMARY:Pizza with the Pastor
DESCRIPTION:Looking to find out more about Reach. What we believe\, how we got here\, and where we are going. Pizza with the pastor is the perfect place to do that!!! Join us after second service on the 27th!!! Lunch and childcare provided. Just let us know you are coming.
URL:https://reachcommunitychurch.com/event/pizza-with-the-pastor/
LOCATION:Senior Center\, 121 Town Hall Drive\, Leland\, NC\, 28451
CATEGORIES:Pizza with the Pastor
END:VEVENT
BEGIN:VEVENT
DTSTART;TZID=UTC:20191027T090000
DTEND;TZID=UTC:20191027T120000
DTSTAMP:20260424T111404
CREATED:20191023T221604Z
LAST-MODIFIED:20191023T221604Z
UID:9154-1572166800-1572177600@reachcommunitychurch.com
SUMMARY:Baby Dedication
DESCRIPTION:This Sunday\, October 27th\,  during services we will be having baby dedications! \nIf you’d like to include your child\, or get more information please let us know by emailing: info@reachcommunitychurch.com
URL:https://reachcommunitychurch.com/event/baby-dedication-2/
LOCATION:Senior Center\, 121 Town Hall Drive\, Leland\, NC\, 28451
END:VEVENT
BEGIN:VEVENT
DTSTART;TZID=UTC:20191020T190000
DTEND;TZID=UTC:20191020T200000
DTSTAMP:20260424T111404
CREATED:20191010T235721Z
LAST-MODIFIED:20191020T142711Z
UID:9136-1571598000-1571601600@reachcommunitychurch.com
SUMMARY:Operation Christmas Child Packing Party
DESCRIPTION:
URL:https://reachcommunitychurch.com/event/operation-christmas-child-packing-party/
LOCATION:Senior Center\, 121 Town Hall Drive\, Leland\, NC\, 28451
END:VEVENT
END:VCALENDAR