BEGIN:VCALENDAR
VERSION:2.0
PRODID:-//Reach Community Church - ECPv6.15.11//NONSGML v1.0//EN
CALSCALE:GREGORIAN
METHOD:PUBLISH
X-WR-CALNAME:Reach Community Church
X-ORIGINAL-URL:https://reachcommunitychurch.com
X-WR-CALDESC:Events for Reach Community Church
REFRESH-INTERVAL;VALUE=DURATION:PT1H
X-Robots-Tag:noindex
X-PUBLISHED-TTL:PT1H
BEGIN:VTIMEZONE
TZID:America/New_York
BEGIN:DAYLIGHT
TZOFFSETFROM:-0500
TZOFFSETTO:-0400
TZNAME:EDT
DTSTART:20220313T070000
END:DAYLIGHT
BEGIN:STANDARD
TZOFFSETFROM:-0400
TZOFFSETTO:-0500
TZNAME:EST
DTSTART:20221106T060000
END:STANDARD
BEGIN:DAYLIGHT
TZOFFSETFROM:-0500
TZOFFSETTO:-0400
TZNAME:EDT
DTSTART:20230312T070000
END:DAYLIGHT
BEGIN:STANDARD
TZOFFSETFROM:-0400
TZOFFSETTO:-0500
TZNAME:EST
DTSTART:20231105T060000
END:STANDARD
BEGIN:DAYLIGHT
TZOFFSETFROM:-0500
TZOFFSETTO:-0400
TZNAME:EDT
DTSTART:20240310T070000
END:DAYLIGHT
BEGIN:STANDARD
TZOFFSETFROM:-0400
TZOFFSETTO:-0500
TZNAME:EST
DTSTART:20241103T060000
END:STANDARD
END:VTIMEZONE
BEGIN:VTIMEZONE
TZID:UTC
BEGIN:STANDARD
TZOFFSETFROM:+0000
TZOFFSETTO:+0000
TZNAME:UTC
DTSTART:20180101T000000
END:STANDARD
END:VTIMEZONE
BEGIN:VEVENT
DTSTART;TZID=America/New_York:20230205T120000
DTEND;TZID=America/New_York:20230205T130000
DTSTAMP:20260424T154615
CREATED:20230119T115330Z
LAST-MODIFIED:20230119T115330Z
UID:10209-1675598400-1675602000@reachcommunitychurch.com
SUMMARY:Pizza with the Pastor
DESCRIPTION:If you are new to Reach we would love for you to join us on Feb. 5th for an informal luncheon with Pastor Heath as he answers any questions you might have about who we are and what we believe. Please sign up at our guest services table or email us and let us know if you will need childcare.
URL:https://reachcommunitychurch.com/event/pizza-with-the-pastor-2/
LOCATION:The Brunswick Senior Center at Leland\, 121 Town Hall Drive\, Leland\, NC\, 28451
CATEGORIES:Pizza with the Pastor
END:VEVENT
BEGIN:VEVENT
DTSTART;TZID=UTC:20191027T120000
DTEND;TZID=UTC:20191027T133000
DTSTAMP:20260424T154615
CREATED:20191020T042055Z
LAST-MODIFIED:20191020T142552Z
UID:9143-1572177600-1572183000@reachcommunitychurch.com
SUMMARY:Pizza with the Pastor
DESCRIPTION:Looking to find out more about Reach. What we believe\, how we got here\, and where we are going. Pizza with the pastor is the perfect place to do that!!! Join us after second service on the 27th!!! Lunch and childcare provided. Just let us know you are coming.
URL:https://reachcommunitychurch.com/event/pizza-with-the-pastor/
LOCATION:Senior Center\, 121 Town Hall Drive\, Leland\, NC\, 28451
CATEGORIES:Pizza with the Pastor
END:VEVENT
END:VCALENDAR