BEGIN:VCALENDAR
VERSION:2.0
PRODID:-//Reach Community Church - ECPv6.15.11//NONSGML v1.0//EN
CALSCALE:GREGORIAN
METHOD:PUBLISH
X-WR-CALNAME:Reach Community Church
X-ORIGINAL-URL:https://reachcommunitychurch.com
X-WR-CALDESC:Events for Reach Community Church
REFRESH-INTERVAL;VALUE=DURATION:PT1H
X-Robots-Tag:noindex
X-PUBLISHED-TTL:PT1H
BEGIN:VTIMEZONE
TZID:America/New_York
BEGIN:DAYLIGHT
TZOFFSETFROM:-0500
TZOFFSETTO:-0400
TZNAME:EDT
DTSTART:20210314T070000
END:DAYLIGHT
BEGIN:STANDARD
TZOFFSETFROM:-0400
TZOFFSETTO:-0500
TZNAME:EST
DTSTART:20211107T060000
END:STANDARD
BEGIN:DAYLIGHT
TZOFFSETFROM:-0500
TZOFFSETTO:-0400
TZNAME:EDT
DTSTART:20220313T070000
END:DAYLIGHT
BEGIN:STANDARD
TZOFFSETFROM:-0400
TZOFFSETTO:-0500
TZNAME:EST
DTSTART:20221106T060000
END:STANDARD
BEGIN:DAYLIGHT
TZOFFSETFROM:-0500
TZOFFSETTO:-0400
TZNAME:EDT
DTSTART:20230312T070000
END:DAYLIGHT
BEGIN:STANDARD
TZOFFSETFROM:-0400
TZOFFSETTO:-0500
TZNAME:EST
DTSTART:20231105T060000
END:STANDARD
END:VTIMEZONE
BEGIN:VEVENT
DTSTART;VALUE=DATE:20221225
DTEND;VALUE=DATE:20221226
DTSTAMP:20260424T154222
CREATED:20221215T154846Z
LAST-MODIFIED:20221215T155149Z
UID:10070-1671926400-1672012799@reachcommunitychurch.com
SUMMARY:No Service - Christmas Day
DESCRIPTION:No Service – Dec. 25th and Jan. 1st \nReach Community Church appreciates each of our volunteers and ministry leaders and the heart they put into our church. As a celebration of their commitment\, we give them an opportunity to travel and spend time with their families.
URL:https://reachcommunitychurch.com/event/christmas-day/
CATEGORIES:No Service
END:VEVENT
END:VCALENDAR