BEGIN:VCALENDAR
VERSION:2.0
PRODID:-//Reach Community Church - ECPv6.15.11//NONSGML v1.0//EN
CALSCALE:GREGORIAN
METHOD:PUBLISH
X-ORIGINAL-URL:https://reachcommunitychurch.com
X-WR-CALDESC:Events for Reach Community Church
REFRESH-INTERVAL;VALUE=DURATION:PT1H
X-Robots-Tag:noindex
X-PUBLISHED-TTL:PT1H
BEGIN:VTIMEZONE
TZID:UTC
BEGIN:STANDARD
TZOFFSETFROM:+0000
TZOFFSETTO:+0000
TZNAME:UTC
DTSTART:20180101T000000
END:STANDARD
END:VTIMEZONE
BEGIN:VEVENT
DTSTART;TZID=UTC:20191011T170000
DTEND;TZID=UTC:20191012T130000
DTSTAMP:20260424T203210
CREATED:20191010T201956Z
LAST-MODIFIED:20191010T235429Z
UID:9108-1570813200-1570885200@reachcommunitychurch.com
SUMMARY:Man2Man Camping trip
DESCRIPTION:
URL:https://reachcommunitychurch.com/event/man2man-camping-trip/
LOCATION:McDowell Property
CATEGORIES:Man2Man
END:VEVENT
END:VCALENDAR